BEGIN:VCALENDAR
VERSION:2.0
PRODID:icalendar-ruby
CALSCALE:GREGORIAN
BEGIN:VEVENT
DTSTAMP:20210119T121321Z
UID:83a7122a-bab9-44ef-8def-ed21e32208e6
DTSTART;VALUE=DATE:20190926
DESCRIPTION:Property ID# 460775\, Locatoin: 247 Cameron Road\, Tauranga\, T
 ime: 1:00PM
SUMMARY:Auction for 
END:VEVENT
END:VCALENDAR
