BEGIN:VCALENDAR
VERSION:2.0
PRODID:icalendar-ruby
CALSCALE:GREGORIAN
BEGIN:VEVENT
DTSTAMP:20210119T121324Z
UID:11a7af5b-1ca5-44c2-a1cf-44e03ad139ea
DTSTART;VALUE=DATE:20191010
DESCRIPTION:Property ID# 462059\, Locatoin: Harcourts\, 1 Third Avenue\, Ta
 uranga\, Time: 1:00PM
SUMMARY:Auction for 
END:VEVENT
END:VCALENDAR
