BEGIN:VCALENDAR
VERSION:2.0
PRODID:icalendar-ruby
CALSCALE:GREGORIAN
BEGIN:VEVENT
DTSTAMP:20210119T121302Z
UID:76724c31-0803-40a4-8439-09723e3eccd2
DTSTART;VALUE=DATE:20200701
DESCRIPTION:Property ID# 482370\, Locatoin: 247 Cameron Road\, Tauranga\, T
 ime: 1:00PM
SUMMARY:Auction for 
END:VEVENT
END:VCALENDAR
