BEGIN:VCALENDAR
VERSION:2.0
PRODID:icalendar-ruby
CALSCALE:GREGORIAN
BEGIN:VEVENT
DTSTAMP:20210119T121301Z
UID:52d49d0d-a9a7-4886-b86d-cd9cdf3399e2
DTSTART;VALUE=DATE:20201022
DESCRIPTION:Property ID# 490455\, Locatoin: Bayleys Auction Rooms \, Time: 
 4:00PM
SUMMARY:Auction for 
END:VEVENT
END:VCALENDAR
