BEGIN:VCALENDAR
VERSION:2.0
PRODID:icalendar-ruby
CALSCALE:GREGORIAN
BEGIN:VEVENT
DTSTAMP:20210119T121252Z
UID:596e822a-fdc1-4f41-8333-457c88857885
DTSTART;VALUE=DATE:20210217
DESCRIPTION:Property ID# 498226\, Time: 4:00PM
SUMMARY:Auction for 69A McCoy Road
END:VEVENT
END:VCALENDAR
