BEGIN:VCALENDAR
VERSION:2.0
PRODID:icalendar-ruby
CALSCALE:GREGORIAN
BEGIN:VEVENT
DTSTAMP:20210119T121314Z
UID:43ff1f74-eeac-41fe-99d6-242c6b2e2f6c
DTSTART;VALUE=DATE:20210218
DESCRIPTION:Property ID# 499523\, Locatoin: 247 Cameron Road\, Tauranga\, T
 ime: 12:00PM
SUMMARY:Auction for 15 Penelope Place
END:VEVENT
END:VCALENDAR
