BEGIN:VCALENDAR
VERSION:2.0
PRODID:icalendar-ruby
CALSCALE:GREGORIAN
BEGIN:VEVENT
DTSTAMP:20260422T145241Z
UID:f80aff0b-facb-43a8-9330-3a0cec338acc
DTSTART;TZID=Pacific/Auckland:20260426T124500
DTEND;TZID=Pacific/Auckland:20260426T131500
DESCRIPTION:Property ID# 604625
SUMMARY:Openhome for 19 Phoenix Heights
END:VEVENT
END:VCALENDAR
